BEGIN:VCALENDAR
VERSION:2.0
PRODID:-//Sabre//Sabre VObject 4.5.8//EN
CALSCALE:GREGORIAN
BEGIN:VEVENT
UID:sabre-vobject-6ffb0e98-46b5-4fab-9b6c-0d51654983c4
DTSTAMP:20260423T134510Z
SUMMARY:Wallfahrt nach Birkland
DESCRIPTION:https://etting.bistum-augsburg-portal.de/veranstaltungen/wallfa
 hrt-nach-birkland_id1753281
DTSTART;TZID=Europe/Berlin:20260525T020000
DTEND;TZID=Europe/Berlin:20260525T180000
END:VEVENT
END:VCALENDAR
