BEGIN:VCALENDAR
VERSION:2.0
PRODID:-//Sabre//Sabre VObject 4.5.8//EN
CALSCALE:GREGORIAN
BEGIN:VEVENT
UID:sabre-vobject-c96f2b86-676f-4bc6-bcba-220bfa3e7177
DTSTAMP:20260423T133701Z
SUMMARY:Bittgang
DESCRIPTION:https://etting.bistum-augsburg-portal.de/veranstaltungen/bittga
 ng_id1753279
DTSTART;TZID=Europe/Berlin:20260517T094500
DTEND;TZID=Europe/Berlin:20260517T104500
END:VEVENT
END:VCALENDAR
