BEGIN:VCALENDAR
VERSION:2.0
PRODID:-//Sabre//Sabre VObject 4.5.8//EN
CALSCALE:GREGORIAN
BEGIN:VEVENT
UID:sabre-vobject-fab53a3d-0a7b-43e8-bc96-4a7af058bab6
DTSTAMP:20260423T134107Z
SUMMARY:Bittgang
DESCRIPTION:https://etting.bistum-augsburg-portal.de/veranstaltungen/bittga
 ng_id1753278
DTSTART;TZID=Europe/Berlin:20260514T081500
DTEND;TZID=Europe/Berlin:20260514T110000
END:VEVENT
END:VCALENDAR
