BEGIN:VCALENDAR
VERSION:2.0
PRODID:-//Sabre//Sabre VObject 4.5.8//EN
CALSCALE:GREGORIAN
BEGIN:VEVENT
UID:sabre-vobject-2c4a539b-86a8-4257-bd70-0708da249409
DTSTAMP:20260423T133809Z
SUMMARY:Maiandacht
DESCRIPTION:https://etting.bistum-augsburg-portal.de/veranstaltungen/maiand
 acht_id1753277
DTSTART;TZID=Europe/Berlin:20260531T190000
DTEND;TZID=Europe/Berlin:20260531T200000
END:VEVENT
END:VCALENDAR
