BEGIN:VCALENDAR
VERSION:2.0
PRODID:-//Sabre//Sabre VObject 4.5.8//EN
CALSCALE:GREGORIAN
BEGIN:VEVENT
UID:sabre-vobject-82c726ef-edfd-4b40-b3a6-b9a269d8e9de
DTSTAMP:20260423T134631Z
SUMMARY:Maiandacht
DESCRIPTION:https://etting.bistum-augsburg-portal.de/veranstaltungen/maiand
 acht_id1753276
DTSTART;TZID=Europe/Berlin:20260509T193000
DTEND;TZID=Europe/Berlin:20260509T203000
END:VEVENT
END:VCALENDAR
