BEGIN:VCALENDAR
VERSION:2.0
PRODID:-//Sabre//Sabre VObject 4.5.8//EN
CALSCALE:GREGORIAN
BEGIN:VEVENT
UID:sabre-vobject-cfc0d0aa-26ef-40eb-aaf9-9378ef0b7ec3
DTSTAMP:20260423T134325Z
SUMMARY:Maiandacht
DESCRIPTION:https://etting.bistum-augsburg-portal.de/veranstaltungen/maiand
 acht_id1753275
DTSTART;TZID=Europe/Berlin:20260508T193000
DTEND;TZID=Europe/Berlin:20260508T203000
END:VEVENT
END:VCALENDAR
