BEGIN:VCALENDAR
VERSION:2.0
PRODID:-//Sabre//Sabre VObject 4.5.8//EN
CALSCALE:GREGORIAN
BEGIN:VEVENT
UID:sabre-vobject-0889ef8a-785f-4285-91aa-695935e7c24b
DTSTAMP:20260423T133829Z
SUMMARY:Gottesdienst mit Bischof V. Mwagala
DESCRIPTION:https://etting.bistum-augsburg-portal.de/veranstaltungen/gottes
 dienst-mit-bischof-v-mwagala_id1753274
DTSTART;TZID=Europe/Berlin:20260424T193000
DTEND;TZID=Europe/Berlin:20260424T203000
END:VEVENT
END:VCALENDAR
