BEGIN:VCALENDAR
VERSION:2.0
PRODID:-//Sabre//Sabre VObject 4.5.8//EN
CALSCALE:GREGORIAN
BEGIN:VEVENT
UID:sabre-vobject-5f272d36-f17f-4aab-94f5-093347584428
DTSTAMP:20260424T183049Z
SUMMARY:Bußgottesdienst
DESCRIPTION:https://etting.bistum-augsburg-portal.de/bussgottesdienst_id168
 9075
DTSTART;TZID=Europe/Berlin:20260324T190000
DURATION:PT30M
LOCATION:St. Michael\, Otostraße 2\, 82398 Polling Etting
END:VEVENT
END:VCALENDAR
